BEGIN:VCALENDAR
VERSION:2.0
PRODID:-//NetCom1 - ECPv6.15.20//NONSGML v1.0//EN
CALSCALE:GREGORIAN
METHOD:PUBLISH
X-WR-CALNAME:NetCom1
X-ORIGINAL-URL:https://mail.netcom1.org
X-WR-CALDESC:Events for NetCom1
REFRESH-INTERVAL;VALUE=DURATION:PT1H
X-Robots-Tag:noindex
X-PUBLISHED-TTL:PT1H
BEGIN:VTIMEZONE
TZID:America/Phoenix
BEGIN:STANDARD
TZOFFSETFROM:-0700
TZOFFSETTO:-0700
TZNAME:MST
DTSTART:20150101T000000
END:STANDARD
END:VTIMEZONE
BEGIN:VEVENT
DTSTART;VALUE=DATE:20161107
DTEND;VALUE=DATE:20161110
DTSTAMP:20260420T023858
CREATED:20160518T124244Z
LAST-MODIFIED:20160518T124244Z
UID:295-1478476800-1478735999@mail.netcom1.org
SUMMARY:NAED Eastern Region Conference
DESCRIPTION:
URL:https://mail.netcom1.org/event/naed-eastern-region-conference/
LOCATION:Marriott World Center\, Orlando\, FL\, United States
END:VEVENT
BEGIN:VEVENT
DTSTART;VALUE=DATE:20160921
DTEND;VALUE=DATE:20160925
DTSTAMP:20260420T023858
CREATED:20160514T154808Z
LAST-MODIFIED:20161005T164200Z
UID:102-1474416000-1474761599@mail.netcom1.org
SUMMARY:Netcom One Semi Annual Meeting set for September 21 -24\, 2016 in Toronto\, Canada
DESCRIPTION:
URL:https://mail.netcom1.org/event/netcom-1-semi-annual-meeting-set-for-september-21-24-in-toronto-canada/
LOCATION:Unnamed Venue\, Toronto\, Canada
END:VEVENT
BEGIN:VEVENT
DTSTART;VALUE=DATE:20160913
DTEND;VALUE=DATE:20160918
DTSTAMP:20260420T023858
CREATED:20160518T125319Z
LAST-MODIFIED:20160518T125348Z
UID:299-1473724800-1474156799@mail.netcom1.org
SUMMARY:CEDIA
DESCRIPTION:
URL:https://mail.netcom1.org/event/cedia/
LOCATION:CEDIA\, Dallas\, TX\, United States
END:VEVENT
BEGIN:VEVENT
DTSTART;VALUE=DATE:20160511
DTEND;VALUE=DATE:20160515
DTSTAMP:20260420T023858
CREATED:20160518T123904Z
LAST-MODIFIED:20160518T123904Z
UID:291-1462924800-1463270399@mail.netcom1.org
SUMMARY:NAED National Meeting
DESCRIPTION:
URL:https://mail.netcom1.org/event/naed-national-meeting/
LOCATION:Marriott Marquis\, Washington\, DC\, WA\, United States
END:VEVENT
BEGIN:VEVENT
DTSTART;VALUE=DATE:20160426
DTEND;VALUE=DATE:20160429
DTSTAMP:20260420T023858
CREATED:20160518T125446Z
LAST-MODIFIED:20160518T125446Z
UID:301-1461628800-1461887999@mail.netcom1.org
SUMMARY:Light Fair International
DESCRIPTION:
URL:https://mail.netcom1.org/event/light-fair-international/
LOCATION:Convention Center\, San Diego\, CA\, United States
END:VEVENT
BEGIN:VEVENT
DTSTART;VALUE=DATE:20160203
DTEND;VALUE=DATE:20160207
DTSTAMP:20260420T023858
CREATED:20160518T124852Z
LAST-MODIFIED:20160518T124852Z
UID:297-1454457600-1454803199@mail.netcom1.org
SUMMARY:NEMRA Annual Conference
DESCRIPTION:
URL:https://mail.netcom1.org/event/nemra-annual-conference/
LOCATION:Hilton Anatole\, Dallas\, TX\, United States
END:VEVENT
END:VCALENDAR